BEGIN:VCALENDAR
VERSION:2.0
PRODID:spatie/icalendar-generator
DESCRIPTION:Events from Cristianos Sin Fronteras
X-WR-CALDESC:Events from Cristianos Sin Fronteras
REFRESH-INTERVAL;VALUE=DURATION:PT1440M
X-PUBLISHED-TTL:PT1440M
BEGIN:VTIMEZONE
TZID:Europe/Madrid
BEGIN:STANDARD
DTSTART:20191027T030000Z
TZOFFSETFROM:+0200
TZOFFSETTO:+0100
END:STANDARD
BEGIN:DAYLIGHT
DTSTART:20200329T020000Z
TZOFFSETFROM:+0100
TZOFFSETTO:+0200
END:DAYLIGHT
BEGIN:STANDARD
DTSTART:20201025T030000Z
TZOFFSETFROM:+0200
TZOFFSETTO:+0100
END:STANDARD
END:VTIMEZONE
BEGIN:VTIMEZONE
TZID:UTC
BEGIN:STANDARD
DTSTART:20250729T165756Z
TZOFFSETFROM:+0000
TZOFFSETTO:+0000
END:STANDARD
END:VTIMEZONE
BEGIN:VEVENT
UID:2-2
DTSTAMP:20260425T165756Z
SUMMARY:--- CANCELADO --- Encuentros Misioneros Silos
LOCATION:
ORGANIZER;CN=Miguel Ángel Bragado Domínguez:MAILTO:mabragado@gmail.com
DTSTART;TZID=Europe/Madrid;VALUE=DATE:20200717
DTEND;TZID=Europe/Madrid;VALUE=DATE:20200727
X-ALT-DESC;FMTTYPE=TEXT/HTML:MODALIDAD Y FECHA: Modalidad de campamento –
  Encuentro  9 días en verano\,  principalmente en mes de julio\, (comen
 zando y acabando en fin de semana). Opción a participar sólo el fin de s
 emana\, siendo siempre partícipes en todo\, no sólo como visitante. MOTI
 VACIÓN: DESDE EL CARISMA DE LA ANIMACIÓN MISIONERA para crear espacios d
 e encuentro y&amp;hellip\;
CATEGORIES:Verano Misionero Silos
URL;VALUE=URI:https://www.csf.es/mc-events/cancelado-encuentros-misioneros-
 silos/
METHOD:PUBLISH
END:VEVENT
END:VCALENDAR