BEGIN:VCALENDAR
VERSION:2.0
PRODID:spatie/icalendar-generator
DESCRIPTION:Events from Cristianos Sin Fronteras
X-WR-CALDESC:Events from Cristianos Sin Fronteras
REFRESH-INTERVAL;VALUE=DURATION:PT1440M
X-PUBLISHED-TTL:PT1440M
BEGIN:VTIMEZONE
TZID:Europe/Madrid
BEGIN:STANDARD
DTSTART:20201025T030000Z
TZOFFSETFROM:+0200
TZOFFSETTO:+0100
END:STANDARD
BEGIN:DAYLIGHT
DTSTART:20210328T020000Z
TZOFFSETFROM:+0100
TZOFFSETTO:+0200
END:DAYLIGHT
END:VTIMEZONE
BEGIN:VTIMEZONE
TZID:UTC
BEGIN:STANDARD
DTSTART:20250729T164726Z
TZOFFSETFROM:+0000
TZOFFSETTO:+0000
END:STANDARD
END:VTIMEZONE
BEGIN:VEVENT
UID:3-3
DTSTAMP:20260425T164726Z
SUMMARY:Encuentro / Convivencia / Oración de Jóvenes 2020
LOCATION:Encuentro virtual\, a través de Teams\, mediante el enlace que se
  enviará a los inscritos.
ORGANIZER;CN=CSF:MAILTO:csf@csf.es
DTSTART;TZID=Europe/Madrid:20201230T100000
DTEND;TZID=Europe/Madrid:20201230T140000
X-ALT-DESC;FMTTYPE=TEXT/HTML:Queremos finalizar el año con un Encuentro / 
 Convivencia / Oración para jóvenes\, dirigido para todos aquellos que en
  alguna ocasión han participado en cualquiera de las actividades organiza
 das por CSF.
CATEGORIES:General
URL;VALUE=URI:https://www.csf.es/mc-events/encuentro-convivencia-oracion-de
 -jovenes-2020/
METHOD:PUBLISH
END:VEVENT
END:VCALENDAR