BEGIN:VCALENDAR
VERSION:2.0
PRODID:spatie/icalendar-generator
DESCRIPTION:Events from Cristianos Sin Fronteras
X-WR-CALDESC:Events from Cristianos Sin Fronteras
REFRESH-INTERVAL;VALUE=DURATION:PT1440M
X-PUBLISHED-TTL:PT1440M
BEGIN:VTIMEZONE
TZID:Europe/Madrid
BEGIN:DAYLIGHT
DTSTART:20230326T020000Z
TZOFFSETFROM:+0100
TZOFFSETTO:+0200
END:DAYLIGHT
BEGIN:STANDARD
DTSTART:20231029T030000Z
TZOFFSETFROM:+0200
TZOFFSETTO:+0100
END:STANDARD
END:VTIMEZONE
BEGIN:VTIMEZONE
TZID:UTC
BEGIN:STANDARD
DTSTART:20250728T121502Z
TZOFFSETFROM:+0000
TZOFFSETTO:+0000
END:STANDARD
END:VTIMEZONE
BEGIN:VEVENT
UID:19-18
DTSTAMP:20260424T121502Z
SUMMARY:Encuentro Multi-Festival Silos 2023
LOCATION:
ORGANIZER;CN=Miguel Ángel Bragado Domínguez:MAILTO:mabragado@gmail.com
DTSTART;TZID=Europe/Madrid;VALUE=DATE:20230825
DTEND;TZID=Europe/Madrid;VALUE=DATE:20230828
X-ALT-DESC;FMTTYPE=TEXT/HTML:
CATEGORIES:Encuentro Multi-Festival Silos
URL;VALUE=URI:https://www.csf.es/mc-events/encuentro-multi-festival-silos-2
 023/
METHOD:PUBLISH
END:VEVENT
END:VCALENDAR