BEGIN:VCALENDAR
VERSION:2.0
PRODID:spatie/icalendar-generator
DESCRIPTION:Events from Cristianos Sin Fronteras
X-WR-CALDESC:Events from Cristianos Sin Fronteras
REFRESH-INTERVAL;VALUE=DURATION:PT1440M
X-PUBLISHED-TTL:PT1440M
BEGIN:VTIMEZONE
TZID:Europe/Madrid
BEGIN:DAYLIGHT
DTSTART:20240331T020000Z
TZOFFSETFROM:+0100
TZOFFSETTO:+0200
END:DAYLIGHT
BEGIN:STANDARD
DTSTART:20241027T030000Z
TZOFFSETFROM:+0200
TZOFFSETTO:+0100
END:STANDARD
END:VTIMEZONE
BEGIN:VTIMEZONE
TZID:UTC
BEGIN:STANDARD
DTSTART:20250725T134344Z
TZOFFSETFROM:+0000
TZOFFSETTO:+0000
END:STANDARD
END:VTIMEZONE
BEGIN:VEVENT
UID:30-28
DTSTAMP:20260421T134344Z
SUMMARY:Encuentro Multi-Festival Silos 2024
LOCATION:
ORGANIZER;CN=Miguel Ángel Bragado Domínguez:MAILTO:mabragado@gmail.com
DTSTART;TZID=Europe/Madrid;VALUE=DATE:20240823
DTEND;TZID=Europe/Madrid;VALUE=DATE:20240826
X-ALT-DESC;FMTTYPE=TEXT/HTML:Compartir desde la cultura y el arte con ambie
 nte alegre y festivo\, experiencias de vida y compromiso en un entorno cul
 tural y natural incomparable. Dar opción a vivir el “estilo silos” de
 sde la oración y mediante la música o/y otras expresiones artísticas\, 
 la mesa compartida\, la oración y el testimonio de los monjes benedictino
 s y&amp;hellip\;
CATEGORIES:Encuentro Multi-Festival Silos
URL;VALUE=URI:https://www.csf.es/mc-events/encuentro-multi-festival-silos-2
 024/
METHOD:PUBLISH
END:VEVENT
END:VCALENDAR