BEGIN:VCALENDAR
VERSION:2.0
PRODID:spatie/icalendar-generator
DESCRIPTION:Events from Cristianos Sin Fronteras
X-WR-CALDESC:Events from Cristianos Sin Fronteras
REFRESH-INTERVAL;VALUE=DURATION:PT1440M
X-PUBLISHED-TTL:PT1440M
BEGIN:VTIMEZONE
TZID:Europe/Madrid
BEGIN:DAYLIGHT
DTSTART:20220327T020000Z
TZOFFSETFROM:+0100
TZOFFSETTO:+0200
END:DAYLIGHT
BEGIN:STANDARD
DTSTART:20221030T030000Z
TZOFFSETFROM:+0200
TZOFFSETTO:+0100
END:STANDARD
END:VTIMEZONE
BEGIN:VTIMEZONE
TZID:UTC
BEGIN:STANDARD
DTSTART:20250725T163049Z
TZOFFSETFROM:+0000
TZOFFSETTO:+0000
END:STANDARD
END:VTIMEZONE
BEGIN:VEVENT
UID:11-10
DTSTAMP:20260421T163049Z
SUMMARY:Encuentro Multi-Festival Silos
LOCATION:
ORGANIZER;CN=Miguel Ángel Bragado Domínguez:MAILTO:mabragado@gmail.com
DTSTART;TZID=Europe/Madrid;VALUE=DATE:20220819
DTEND;TZID=Europe/Madrid;VALUE=DATE:20220822
X-ALT-DESC;FMTTYPE=TEXT/HTML:ENCUENTRO – MULTIFESTIVAL SILOS Para todos a
 quellos que quieran vivir un fin de semana diferente. Arte\, música\, cre
 atividad\, … y fe. Una forma de celebrar\, aprender y disfrutar la fe de
 sde las diferentes expresiones culturales. Toda una necesidad para la misi
 ón que Jesús nos encargó como Iglesia: Id y anunciad al mundo. Una form
 a de&amp;hellip\;
CATEGORIES:Encuentro Multi-Festival Silos
URL;VALUE=URI:https://www.csf.es/mc-events/encuentro-multi-festival-silos/
METHOD:PUBLISH
END:VEVENT
END:VCALENDAR