BEGIN:VCALENDAR
VERSION:2.0
PRODID:spatie/icalendar-generator
DESCRIPTION:Events from Cristianos Sin Fronteras
X-WR-CALDESC:Events from Cristianos Sin Fronteras
REFRESH-INTERVAL;VALUE=DURATION:PT1440M
X-PUBLISHED-TTL:PT1440M
BEGIN:VTIMEZONE
TZID:Europe/Madrid
BEGIN:STANDARD
DTSTART:20211031T030000Z
TZOFFSETFROM:+0200
TZOFFSETTO:+0100
END:STANDARD
BEGIN:DAYLIGHT
DTSTART:20220327T020000Z
TZOFFSETFROM:+0100
TZOFFSETTO:+0200
END:DAYLIGHT
BEGIN:STANDARD
DTSTART:20221030T030000Z
TZOFFSETFROM:+0200
TZOFFSETTO:+0100
END:STANDARD
END:VTIMEZONE
BEGIN:VTIMEZONE
TZID:UTC
BEGIN:STANDARD
DTSTART:20250725T163231Z
TZOFFSETFROM:+0000
TZOFFSETTO:+0000
END:STANDARD
END:VTIMEZONE
BEGIN:VEVENT
UID:10-9
DTSTAMP:20260421T163231Z
SUMMARY:Encuentro Operación Futuro - PEJ
LOCATION:
ORGANIZER;CN=Miguel Ángel Bragado Domínguez:MAILTO:mabragado@gmail.com
DTSTART;TZID=Europe/Madrid;VALUE=DATE:20220728
DTEND;TZID=Europe/Madrid;VALUE=DATE:20220808
X-ALT-DESC;FMTTYPE=TEXT/HTML:Encuentro OPERACIÓN FUTURO – PEJ Para adole
 scentes y jóvenes. Porque además de vivir el todo juntos en Iglesia\, ne
 cesitáis un espacio joven\, que os plantee la llamada y el encuentro con 
 Jesús de forma personal y en grupo: Alegre\, viva\, con esfuerzo e ilusi
 ón\, lleno de proyectos\, sueños y posibilidades… Porque lo vuestro en
  poneros&amp;hellip\;
CATEGORIES:Encuentro Multi-Festival Silos
URL;VALUE=URI:https://www.csf.es/mc-events/encuentro-operacion-futuro-pej/
METHOD:PUBLISH
END:VEVENT
END:VCALENDAR