BEGIN:VCALENDAR
VERSION:2.0
PRODID:spatie/icalendar-generator
DESCRIPTION:Events from Cristianos Sin Fronteras
X-WR-CALDESC:Events from Cristianos Sin Fronteras
REFRESH-INTERVAL;VALUE=DURATION:PT1440M
X-PUBLISHED-TTL:PT1440M
BEGIN:VTIMEZONE
TZID:Europe/Madrid
BEGIN:STANDARD
DTSTART:20211031T030000Z
TZOFFSETFROM:+0200
TZOFFSETTO:+0100
END:STANDARD
BEGIN:DAYLIGHT
DTSTART:20220327T020000Z
TZOFFSETFROM:+0100
TZOFFSETTO:+0200
END:DAYLIGHT
BEGIN:STANDARD
DTSTART:20221030T030000Z
TZOFFSETFROM:+0200
TZOFFSETTO:+0100
END:STANDARD
END:VTIMEZONE
BEGIN:VTIMEZONE
TZID:UTC
BEGIN:STANDARD
DTSTART:20250729T111645Z
TZOFFSETFROM:+0000
TZOFFSETTO:+0000
END:STANDARD
END:VTIMEZONE
BEGIN:VEVENT
UID:9-8
DTSTAMP:20260425T111645Z
SUMMARY:Encuentro Verano Misionero Silos 2022
LOCATION:
ORGANIZER;CN=Miguel Ángel Bragado Domínguez:MAILTO:mabragado@gmail.com
DTSTART;TZID=Europe/Madrid;VALUE=DATE:20220722
DTEND;TZID=Europe/Madrid;VALUE=DATE:20220801
X-ALT-DESC;FMTTYPE=TEXT/HTML:Encuentro VERANO MISIONERO SILOS Pensado para 
 tu familia al completo: niños\, adolescentes y jóvenes\, padres\, … y 
 hasta abuelos. Pensado también para tu grupo: parroquia\, colegio\, asoci
 ación o movimiento. Pensado\, como no\, para ti: religios@\, misioner@\, 
 sacerdote… ENCUENTRO con mayúsculas\, de todos juntos\, como es la Igle
 sia. Para pararnos y encontrarnos con Jesús y para&amp;hellip\;
CATEGORIES:Verano Misionero Silos
URL;VALUE=URI:https://www.csf.es/mc-events/encuentro-verano-misionero-silos
 -2022/
METHOD:PUBLISH
END:VEVENT
END:VCALENDAR