BEGIN:VCALENDAR
VERSION:2.0
PRODID:spatie/icalendar-generator
DESCRIPTION:Events from Cristianos Sin Fronteras
X-WR-CALDESC:Events from Cristianos Sin Fronteras
REFRESH-INTERVAL;VALUE=DURATION:PT1440M
X-PUBLISHED-TTL:PT1440M
BEGIN:VTIMEZONE
TZID:Europe/Madrid
BEGIN:STANDARD
DTSTART:20251026T030000Z
TZOFFSETFROM:+0200
TZOFFSETTO:+0100
END:STANDARD
BEGIN:DAYLIGHT
DTSTART:20260329T020000Z
TZOFFSETFROM:+0100
TZOFFSETTO:+0200
END:DAYLIGHT
BEGIN:STANDARD
DTSTART:20261025T030000Z
TZOFFSETFROM:+0200
TZOFFSETTO:+0100
END:STANDARD
END:VTIMEZONE
BEGIN:VTIMEZONE
TZID:UTC
BEGIN:STANDARD
DTSTART:20250728T082550Z
TZOFFSETFROM:+0000
TZOFFSETTO:+0000
END:STANDARD
END:VTIMEZONE
BEGIN:VEVENT
UID:60-52
DTSTAMP:20260424T082550Z
SUMMARY:Encuentro Verano Misionero Silos 2025
LOCATION:
ORGANIZER;CN=Miguel Ángel Bragado Domínguez:MAILTO:mabragado@gmail.com
DTSTART;TZID=Europe/Madrid;VALUE=DATE:20260717
DTEND;TZID=Europe/Madrid;VALUE=DATE:20260727
X-ALT-DESC;FMTTYPE=TEXT/HTML:NACEN COMO RESPUESTA DESDE LA COMUNIÓN PARA C
 REAR ESPACIOS PARA LA COMUNIÓN ECLESIAL LUGAR: Los Encuentros Misioneros 
 Silos se realizarán en Santo Domingo de Silos\, Burgos\, en terrenos cedi
 dos por los PP. Benedictinos.
CATEGORIES:Verano Misionero Silos
URL;VALUE=URI:https://www.csf.es/mc-events/encuentro-verano-misionero-silos
 -2025-2/
METHOD:PUBLISH
END:VEVENT
END:VCALENDAR