BEGIN:VCALENDAR
VERSION:2.0
PRODID:spatie/icalendar-generator
DESCRIPTION:Events from Cristianos Sin Fronteras
X-WR-CALDESC:Events from Cristianos Sin Fronteras
REFRESH-INTERVAL;VALUE=DURATION:PT1440M
X-PUBLISHED-TTL:PT1440M
BEGIN:VTIMEZONE
TZID:Europe/Madrid
BEGIN:STANDARD
DTSTART:20211031T030000Z
TZOFFSETFROM:+0200
TZOFFSETTO:+0100
END:STANDARD
BEGIN:DAYLIGHT
DTSTART:20220327T020000Z
TZOFFSETFROM:+0100
TZOFFSETTO:+0200
END:DAYLIGHT
END:VTIMEZONE
BEGIN:VTIMEZONE
TZID:UTC
BEGIN:STANDARD
DTSTART:20250729T113721Z
TZOFFSETFROM:+0000
TZOFFSETTO:+0000
END:STANDARD
END:VTIMEZONE
BEGIN:VEVENT
UID:12-11
DTSTAMP:20260425T113721Z
SUMMARY:Encuentro y Festival de la Canción Misionera 2022 Pamplona - Javie
 r
LOCATION:
ORGANIZER;CN=Miguel Ángel Bragado Domínguez:MAILTO:mabragado@gmail.com
DTSTART;TZID=Europe/Madrid;VALUE=DATE:20220423
DTEND;TZID=Europe/Madrid;VALUE=DATE:20220425
X-ALT-DESC;FMTTYPE=TEXT/HTML:ENCUENTROS Y FESTIVALES DE LA CANCIÓN MISIONE
 RA Con los Encuentros y Festivales hemos buscado estos valores\, que han s
 ido como objetivos constantes: Hacer una llamada a la vocación misionera\
 , que tiene todo cristiano. Apostar por la evangelización de la cultura\,
  que es el objetivo que el Papa Pablo VI señaló en su carta «Evangeliza
 ción del&amp;hellip\;
CATEGORIES:Encuentro y Festival de la Canción Misionera
URL;VALUE=URI:https://www.csf.es/mc-events/encuentro-y-festival-de-la-canci
 on-misionera-2022-pamplona-javier/
METHOD:PUBLISH
END:VEVENT
END:VCALENDAR