BEGIN:VCALENDAR
VERSION:2.0
PRODID:spatie/icalendar-generator
DESCRIPTION:Events from Cristianos Sin Fronteras
X-WR-CALDESC:Events from Cristianos Sin Fronteras
REFRESH-INTERVAL;VALUE=DURATION:PT1440M
X-PUBLISHED-TTL:PT1440M
BEGIN:VTIMEZONE
TZID:Europe/Madrid
BEGIN:STANDARD
DTSTART:20231029T030000Z
TZOFFSETFROM:+0200
TZOFFSETTO:+0100
END:STANDARD
BEGIN:DAYLIGHT
DTSTART:20240331T020000Z
TZOFFSETFROM:+0100
TZOFFSETTO:+0200
END:DAYLIGHT
END:VTIMEZONE
BEGIN:VTIMEZONE
TZID:UTC
BEGIN:STANDARD
DTSTART:20250728T141106Z
TZOFFSETFROM:+0000
TZOFFSETTO:+0000
END:STANDARD
END:VTIMEZONE
BEGIN:VEVENT
UID:35-32
DTSTAMP:20260424T141106Z
SUMMARY:Infancia Misionera (Diocesano)
LOCATION:
ORGANIZER;CN=Miguel Ángel Bragado Domínguez:MAILTO:mabragado@gmail.com
DTSTART;TZID=Europe/Madrid;VALUE=DATE:20240114
DTEND;TZID=Europe/Madrid;VALUE=DATE:20240115
X-ALT-DESC;FMTTYPE=TEXT/HTML:
CATEGORIES:General
URL;VALUE=URI:https://www.csf.es/mc-events/infancia-misionera-diocesano/
METHOD:PUBLISH
END:VEVENT
END:VCALENDAR