BEGIN:VCALENDAR
VERSION:2.0
PRODID:spatie/icalendar-generator
DESCRIPTION:Events from Cristianos Sin Fronteras
X-WR-CALDESC:Events from Cristianos Sin Fronteras
REFRESH-INTERVAL;VALUE=DURATION:PT1440M
X-PUBLISHED-TTL:PT1440M
BEGIN:VTIMEZONE
TZID:Europe/Madrid
BEGIN:STANDARD
DTSTART:20201025T030000Z
TZOFFSETFROM:+0200
TZOFFSETTO:+0100
END:STANDARD
BEGIN:DAYLIGHT
DTSTART:20210328T020000Z
TZOFFSETFROM:+0100
TZOFFSETTO:+0200
END:DAYLIGHT
END:VTIMEZONE
BEGIN:VTIMEZONE
TZID:UTC
BEGIN:STANDARD
DTSTART:20250729T140525Z
TZOFFSETFROM:+0000
TZOFFSETTO:+0000
END:STANDARD
END:VTIMEZONE
BEGIN:VEVENT
UID:4-4
DTSTAMP:20260425T140525Z
SUMMARY:Jornada de la Infancia Misionera 2021
LOCATION:
ORGANIZER;CN=CSF:MAILTO:csf@csf.es
DTSTART;TZID=Europe/Madrid;VALUE=DATE:20210117
DTEND;TZID=Europe/Madrid;VALUE=DATE:20210119
X-ALT-DESC;FMTTYPE=TEXT/HTML:Sois favoritos para Jesús. Ser niño es la cl
 ave para muchas de las propuestas del Reino de Dios. Incluso acabamos de c
 elebrar con alegría que Dios mismo se ha hecho Niño para mostrarnos su A
 mor. Con Jesús a Nazaret ¡somos familia! Vamos a celebrar la Jornada de 
 la Infancia Misionera\, que promueve la ayuda recíproca&amp;hellip\;
CATEGORIES:General
URL;VALUE=URI:https://www.csf.es/mc-events/jornada-de-la-infancia-misionera
 -2021/
METHOD:PUBLISH
END:VEVENT
END:VCALENDAR