BEGIN:VCALENDAR
VERSION:2.0
PRODID:spatie/icalendar-generator
DESCRIPTION:Events from Cristianos Sin Fronteras
X-WR-CALDESC:Events from Cristianos Sin Fronteras
REFRESH-INTERVAL;VALUE=DURATION:PT1440M
X-PUBLISHED-TTL:PT1440M
BEGIN:VTIMEZONE
TZID:Europe/Madrid
BEGIN:STANDARD
DTSTART:20211031T030000Z
TZOFFSETFROM:+0200
TZOFFSETTO:+0100
END:STANDARD
BEGIN:DAYLIGHT
DTSTART:20220327T020000Z
TZOFFSETFROM:+0100
TZOFFSETTO:+0200
END:DAYLIGHT
BEGIN:STANDARD
DTSTART:20221030T030000Z
TZOFFSETFROM:+0200
TZOFFSETTO:+0100
END:STANDARD
END:VTIMEZONE
BEGIN:VTIMEZONE
TZID:UTC
BEGIN:STANDARD
DTSTART:20250729T114153Z
TZOFFSETFROM:+0000
TZOFFSETTO:+0000
END:STANDARD
END:VTIMEZONE
BEGIN:VEVENT
UID:13-12
DTSTAMP:20260425T114153Z
SUMMARY:Pleno de Comprometidos CSF 2022
LOCATION:
ORGANIZER;CN=Miguel Ángel Bragado Domínguez:MAILTO:mabragado@gmail.com
DTSTART;TZID=Europe/Madrid;VALUE=DATE:20220611
DTEND;TZID=Europe/Madrid;VALUE=DATE:20220613
X-ALT-DESC;FMTTYPE=TEXT/HTML:Reunida la C. Permanente el 8 de Mayo de 2022\
 , se confirman las fechas del próximo Pleno Ordinario de Comprometidos de
  CSF para el fin de semana del 11 y 12 de junio de 2022\, en Santo Domingo
  de Silos\, recuperando de nuevo la presencialidad tras estos últimos añ
 os de pandemia. Apuntad y reservad ya&amp;hellip\;
CATEGORIES:Pleno
URL;VALUE=URI:https://www.csf.es/mc-events/pleno-de-comprometidos-csf-2022/
METHOD:PUBLISH
END:VEVENT
END:VCALENDAR