BEGIN:VCALENDAR
VERSION:2.0
PRODID:spatie/icalendar-generator
DESCRIPTION:Events from Cristianos Sin Fronteras
X-WR-CALDESC:Events from Cristianos Sin Fronteras
REFRESH-INTERVAL;VALUE=DURATION:PT1440M
X-PUBLISHED-TTL:PT1440M
BEGIN:VTIMEZONE
TZID:Europe/Madrid
BEGIN:DAYLIGHT
DTSTART:20230326T020000Z
TZOFFSETFROM:+0100
TZOFFSETTO:+0200
END:DAYLIGHT
BEGIN:STANDARD
DTSTART:20231029T030000Z
TZOFFSETFROM:+0200
TZOFFSETTO:+0100
END:STANDARD
BEGIN:DAYLIGHT
DTSTART:20240331T020000Z
TZOFFSETFROM:+0100
TZOFFSETTO:+0200
END:DAYLIGHT
END:VTIMEZONE
BEGIN:VTIMEZONE
TZID:UTC
BEGIN:STANDARD
DTSTART:20250728T151547Z
TZOFFSETFROM:+0000
TZOFFSETTO:+0000
END:STANDARD
END:VTIMEZONE
BEGIN:VEVENT
UID:25-23
DTSTAMP:20260424T151547Z
SUMMARY:Tren Misionero Barcelona 2023
LOCATION:
ORGANIZER;CN=Miguel Ángel Bragado Domínguez:MAILTO:mabragado@gmail.com
DTSTART;TZID=Europe/Madrid;VALUE=DATE:20231021
DTEND;TZID=Europe/Madrid;VALUE=DATE:20231022
X-ALT-DESC;FMTTYPE=TEXT/HTML:Un Encuentro con niños\, familias y adolescen
 tes acompañados por sus animadores y catequistas. Se trasladan en tren de
 sde sus lugares de origen. Realizan un programa común de encuentro\, de i
 ntercambio con niños de otras diócesis y regiones\, de celebración de l
 a fe y de visita cultural a la ciudad. Todo dentro del clima de fiesta&amp;hel
 lip\;
CATEGORIES:Tren Misionero
URL;VALUE=URI:https://www.csf.es/mc-events/tren-misionero-barcelona-2023/
METHOD:PUBLISH
END:VEVENT
END:VCALENDAR