BEGIN:VCALENDAR
VERSION:2.0
PRODID:spatie/icalendar-generator
DESCRIPTION:Events from Cristianos Sin Fronteras
X-WR-CALDESC:Events from Cristianos Sin Fronteras
REFRESH-INTERVAL;VALUE=DURATION:PT1440M
X-PUBLISHED-TTL:PT1440M
BEGIN:VTIMEZONE
TZID:Europe/Madrid
BEGIN:DAYLIGHT
DTSTART:20240331T020000Z
TZOFFSETFROM:+0100
TZOFFSETTO:+0200
END:DAYLIGHT
BEGIN:STANDARD
DTSTART:20241027T030000Z
TZOFFSETFROM:+0200
TZOFFSETTO:+0100
END:STANDARD
BEGIN:DAYLIGHT
DTSTART:20250330T020000Z
TZOFFSETFROM:+0100
TZOFFSETTO:+0200
END:DAYLIGHT
END:VTIMEZONE
BEGIN:VTIMEZONE
TZID:UTC
BEGIN:STANDARD
DTSTART:20250723T161612Z
TZOFFSETFROM:+0000
TZOFFSETTO:+0000
END:STANDARD
END:VTIMEZONE
BEGIN:VEVENT
UID:45-40
DTSTAMP:20260419T161612Z
SUMMARY:Tren Misionero Madrid 2024 - Los Molinos
LOCATION:
ORGANIZER;CN=Miguel Ángel Bragado Domínguez:MAILTO:mabragado@gmail.com
DTSTART;TZID=Europe/Madrid;VALUE=DATE:20241019
DTEND;TZID=Europe/Madrid;VALUE=DATE:20241020
X-ALT-DESC;FMTTYPE=TEXT/HTML:Un Encuentro con niños\, familias y adolescen
 tes acompañados por sus animadores y catequistas. Se trasladan en tren de
 sde sus lugares de origen. Realizan un programa común de encuentro\, de i
 ntercambio con niños de otras diócesis y regiones\, de celebración de l
 a fe y de visita cultural a la ciudad. Todo dentro del clima de fiesta&amp;hel
 lip\;
CATEGORIES:Tren Misionero
URL;VALUE=URI:https://www.csf.es/mc-events/tren-misionero-madrid-2024-los-m
 olinos-2/
METHOD:PUBLISH
END:VEVENT
END:VCALENDAR